BEGIN:VCALENDAR
VERSION:2.0
PRODID:-//NADI Pulau Serai - ECPv6.15.13.1//NONSGML v1.0//EN
CALSCALE:GREGORIAN
METHOD:PUBLISH
X-WR-CALNAME:NADI Pulau Serai
X-ORIGINAL-URL:https://pulauserai.nadi.my
X-WR-CALDESC:Events for NADI Pulau Serai
REFRESH-INTERVAL;VALUE=DURATION:PT1H
X-Robots-Tag:noindex
X-PUBLISHED-TTL:PT1H
BEGIN:VTIMEZONE
TZID:Asia/Kuala_Lumpur
BEGIN:STANDARD
TZOFFSETFROM:+0800
TZOFFSETTO:+0800
TZNAME:+08
DTSTART:20240101T000000
END:STANDARD
END:VTIMEZONE
BEGIN:VEVENT
DTSTART;TZID=Asia/Kuala_Lumpur:20251208T103000
DTEND;TZID=Asia/Kuala_Lumpur:20251214T233000
DTSTAMP:20260426T073052
CREATED:20251202T082021Z
LAST-MODIFIED:20251202T082326Z
UID:2525-1765189800-1765755000@pulauserai.nadi.my
SUMMARY:USAHAWAN : COHORT 6 - WEBINAR PEMASARAN DAN OPERASI PERNIAGAAN
DESCRIPTION:
URL:https://pulauserai.nadi.my/event/cohort-6-webinar-pemasaran-dan-operasi-perniagaan/
END:VEVENT
END:VCALENDAR